BEGIN:VCALENDAR
VERSION:2.0
PRODID:-//Institute for Digital Research and Education - ECPv6.15.17.1//NONSGML v1.0//EN
CALSCALE:GREGORIAN
METHOD:PUBLISH
X-ORIGINAL-URL:https://idre.ucla.edu
X-WR-CALDESC:Events for Institute for Digital Research and Education
REFRESH-INTERVAL;VALUE=DURATION:PT1H
X-Robots-Tag:noindex
X-PUBLISHED-TTL:PT1H
BEGIN:VTIMEZONE
TZID:America/Los_Angeles
BEGIN:DAYLIGHT
TZOFFSETFROM:-0800
TZOFFSETTO:-0700
TZNAME:PDT
DTSTART:20250309T100000
END:DAYLIGHT
BEGIN:STANDARD
TZOFFSETFROM:-0700
TZOFFSETTO:-0800
TZNAME:PST
DTSTART:20251102T090000
END:STANDARD
BEGIN:DAYLIGHT
TZOFFSETFROM:-0800
TZOFFSETTO:-0700
TZNAME:PDT
DTSTART:20260308T100000
END:DAYLIGHT
BEGIN:STANDARD
TZOFFSETFROM:-0700
TZOFFSETTO:-0800
TZNAME:PST
DTSTART:20261101T090000
END:STANDARD
BEGIN:DAYLIGHT
TZOFFSETFROM:-0800
TZOFFSETTO:-0700
TZNAME:PDT
DTSTART:20270314T100000
END:DAYLIGHT
BEGIN:STANDARD
TZOFFSETFROM:-0700
TZOFFSETTO:-0800
TZNAME:PST
DTSTART:20271107T090000
END:STANDARD
END:VTIMEZONE
BEGIN:VEVENT
DTSTART;TZID=America/Los_Angeles:20260507T083000
DTEND;TZID=America/Los_Angeles:20260507T163000
DTSTAMP:20260423T110234
CREATED:20260311T162952Z
LAST-MODIFIED:20260312T230731Z
UID:26487-1778142600-1778171400@idre.ucla.edu
SUMMARY:DataX+IDRE Research in the Age of AI Symposium
DESCRIPTION:The Third Annual DataX+IDRE ‘Research in the Age of AI’ Symposium will feature distinguished researchers from departments across UCLA to speak on the use\, development\, and impact of AI in research. This multidisciplinary event will showcase advancements of artificial intelligence across diverse academic fields\, as well as leading voices on the effects of AI. Participants will have the opportunity to engage with experts\, explore innovative research\, and join in thought-provoking discussions. The goal of the event is to build connections among UCLA researchers who engage with AI. \nSpace is limited and registration will be capped. Refreshments\, lunch\, and an afternoon reception will be provided. \nFor further details about the schedule and location\, please visit our website. \nThe symposium is open to current UCLA faculty\, academic and staff employees\, and students.
URL:https://idre.ucla.edu/calendar-event/dataxidre-research-in-the-age-of-ai-symposium
CATEGORIES:Conferences and Seminars,UCLA event
END:VEVENT
END:VCALENDAR